View In:
ArcGIS JavaScript
ArcGIS Online Map Viewer
ArcGIS Earth
ArcGIS Pro
Service Description: <div style='text-align:Left;font-size:12pt'><p><span>This is a feature class of the Tax Rate Areas (TRAs) in Santa Clara County. It is derived from TRA Detail Maps obtained from the State Board of Equalization (SBE). It contains 811 separate TRA Numbers. Tax rate area boundaries and district data based on changes filed for the specified assessment roll year.</span></p><p><span>Data Source: https://cdtfa.hub.arcgis.com/datasets/CDTFA::santa-clara-2022-roll-year/explore?layer=0&location=37.187730%2C-121.706077%2C11.27</span></p></div>
Map Name: SCCTRA
Legend
All Layers and Tables
Dynamic Legend
Dynamic All Layers
Layers:
Description: This is a feature class of the Tax Rate Areas (TRAs) in Santa Clara County. It is derived from TRA Detail Maps obtained from the State Board of Equalization (SBE). It contains 811 separate TRA Numbers. Tax rate area boundaries and district data based on changes filed for the specified assessment roll year.Data Source: https://cdtfa.hub.arcgis.com/datasets/CDTFA::santa-clara-2022-roll-year/explore?layer=0&location=37.187730%2C-121.706077%2C11.27
Service Item Id: 64d92f93c1aa40ebb6f37e53cb3dc5df
Copyright Text: County of Santa Clara, State Board of Equalization
Spatial Reference:
102100
(3857)
LatestVCSWkid(0)
Single Fused Map Cache: true
Tile Info:
- Height: 256.0
- Width: 256.0
- DPI: 96.0
-
Levels of Detail: 24
-
Level ID: 1
[ Start Tile, End Tile ]
- Resolution: 78271.5169639999
- Scale: 2.95828763795777E8
-
Level ID: 2
[ Start Tile, End Tile ]
- Resolution: 39135.7584820001
- Scale: 1.47914381897889E8
-
Level ID: 3
[ Start Tile, End Tile ]
- Resolution: 19567.8792409999
- Scale: 7.3957190948944E7
-
Level ID: 4
[ Start Tile, End Tile ]
- Resolution: 9783.93962049996
- Scale: 3.6978595474472E7
-
Level ID: 5
[ Start Tile, End Tile ]
- Resolution: 4891.96981024998
- Scale: 1.8489297737236E7
- Format: PNG
- Compression Quality: 0.0
- Origin: X: -2.0037508342787E7
Y: 2.0037508342787E7
- Spatial Reference: 102100
(3857)
LatestVCSWkid(0)
Storage Info:
- Storage Format: esriMapCacheStorageModeCompactV2
- Packet Size: 128
Initial Extent:
XMin: -1.3580940752703551E7
YMin: 4436366.7102227975
XMax: -1.3507331894465026E7
YMax: 4508905.4500653315
Spatial Reference: 102100
(0)
LatestVCSWkid(0)
Full Extent:
XMin: -1.36035635255E7
YMin: 4424207.119400002
XMax: -1.34928241206E7
YMax: 4506890.035899997
Spatial Reference: 102100
(0)
LatestVCSWkid(0)
Units: esriMeters
Supported Image Format Types: PNG32,PNG24,PNG,JPG,DIB,TIFF,EMF,PS,PDF,GIF,SVG,SVGZ,BMP
Document Info:
Title: SCCTRA
Author:
Comments: This is a feature class of the Tax Rate Areas (TRAs) in Santa Clara County. It is derived from TRA Detail Maps obtained from the State Board of Equalization (SBE). It contains 811 separate TRA Numbers. Tax rate area boundaries and district data based on changes filed for the specified assessment roll year.Data Source: https://cdtfa.hub.arcgis.com/datasets/CDTFA::santa-clara-2022-roll-year/explore?layer=0&location=37.187730%2C-121.706077%2C11.27
Subject: This is a feature class of the Tax Rate Areas (TRAs) in Santa Clara County. It is derived from TRA Detail Maps obtained from the State Board of Equalization (SBE). It contains 811 separate TRA Numbers. Tax rate area boundaries and district data based on changes filed for the specified assessment roll year.
Data Source: https://cdtfa.hub.arcgis.com/datasets/CDTFA::santa-clara-2022-roll-year/explore?layer=0&location=37.187730%2C-121.706077%2C11.27
Category:
Keywords: sccgov,TRA
AntialiasingMode: None
TextAntialiasingMode: Force
Supports Dynamic Layers: true
Resampling: false
MaxRecordCount: 2000
MaxSelectionCount: 2000
MaxImageHeight: 4096
MaxImageWidth: 8192
Supported Query Formats: JSON, geoJSON, PBF
Supports Query Data Elements: true
Min Scale: 5.91657527591555E8
Max Scale: 282.124294
Supports Datum Transformation: true
Child Resources:
Info
Dynamic Layer
Supported Operations:
Export Map
Identify
QueryLegends
QueryDomains
Find
Return Updates