View In:
ArcGIS JavaScript
ArcGIS Online Map Viewer
ArcGIS Earth
ArcGIS Pro
Service Description: <div style='text-align:Left;font-size:12pt'><div><div><p><span>A map service providing data on parcels within Santa Clara County for FY2026, June 2026.</span></p></div></div></div>
Map Name: SCCProperty
Legend
All Layers and Tables
Dynamic Legend
Dynamic All Layers
Layers:
Description: A map service providing data on parcels within Santa Clara County for FY2026, June 2026.
Service Item Id: cc6f4f75ece14e309a47fc8971134bd9
Copyright Text: © 2026, County of Santa Clara, all rights reserved
Spatial Reference:
102100
(3857)
LatestVCSWkid(0)
Single Fused Map Cache: true
Tile Info:
- Height: 256.0
- Width: 256.0
- DPI: 96.0
-
Levels of Detail: 24
-
Level ID: 1
[ Start Tile, End Tile ]
- Resolution: 78271.5169639999
- Scale: 2.95828763795777E8
-
Level ID: 2
[ Start Tile, End Tile ]
- Resolution: 39135.7584820001
- Scale: 1.47914381897889E8
-
Level ID: 3
[ Start Tile, End Tile ]
- Resolution: 19567.8792409999
- Scale: 7.3957190948944E7
-
Level ID: 4
[ Start Tile, End Tile ]
- Resolution: 9783.93962049996
- Scale: 3.6978595474472E7
-
Level ID: 5
[ Start Tile, End Tile ]
- Resolution: 4891.96981024998
- Scale: 1.8489297737236E7
- Format: PNG
- Compression Quality: 0.0
- Origin: X: -2.0037508342787E7
Y: 2.0037508342787E7
- Spatial Reference: 102100
(3857)
LatestVCSWkid(0)
Storage Info:
- Storage Format: esriMapCacheStorageModeCompactV2
- Packet Size: 128
Initial Extent:
XMin: -1.3564390603092002E7
YMin: 4491619.048963835
XMax: -1.3564268035122855E7
YMax: 4491756.695331136
Spatial Reference: 102100
(0)
LatestVCSWkid(0)
Full Extent:
XMin: -1.36035635235E7
YMin: 4424224.48216025
XMax: -1.34928241184E7
YMax: 4506915.669399999
Spatial Reference: 102100
(0)
LatestVCSWkid(0)
Units: esriMeters
Supported Image Format Types: PNG32,PNG24,PNG,JPG,DIB,TIFF,EMF,PS,PDF,GIF,SVG,SVGZ,BMP
Document Info:
Title: Property Service
Author:
Comments: A map service providing data on parcels within Santa Clara County for FY2026, June 2026.
Subject: A map service providing data on parcels within Santa Clara County for FY2026, June 2026.
Category:
Keywords: sccgov,County of Santa Clara,Address Points,Parcels
AntialiasingMode: None
TextAntialiasingMode: Force
Supports Dynamic Layers: true
Resampling: false
MaxRecordCount: 2000
MaxSelectionCount: 2000
MaxImageHeight: 4096
MaxImageWidth: 4096
Supported Query Formats: JSON, geoJSON, PBF
Supports Query Data Elements: true
Min Scale: 5.91657527591555E8
Max Scale: 282.124294
Min LOD: 0
Max LOD: 21
Supports Datum Transformation: true
Child Resources:
Info
Dynamic Layer
Supported Operations:
Export Map
Identify
QueryLegends
QueryDomains
Find
Return Updates