View In:
ArcGIS JavaScript
ArcGIS Online Map Viewer
ArcGIS Earth
ArcGIS Pro
Service Description: <div style='text-align:Left;font-size:12pt'><div><p><span>The Alquist-Priolo Earthquake Fault Zones and fault traces as shown on the Official Alquist-Priolo Earthquake Fault Zones Map of the Santa Clara County (2008). Alquist-Priolo fault zones do not correspond with fault rupture zones. The Alquist-Priolo Earthquake Fault Zoning Act was passed in 1972 to mitigate the hazard of surface faulting to structures for human occupancy. This state law was a direct result of the 1971 San Fernando Earthquake, which was associated with extensive surface fault ruptures that damaged numerous homes, commercial buildings, and other structures. Surface rupture is the most easily avoidable seismic hazard. It directs the State of California Department of Conservation - Geological Survey to compile detailed maps of the surface traces of known active faults. The Alquist-Priolo Earthquake Fault Zoning Act's main purpose is to prevent the construction of buildings used for human occupancy on the surface trace of active faults. Any other information: http://www.quake.ca.gov/gmaps/ap/ap_maps.htm The 1:24,000-scale (24K) U.S. Geological Survey (USGS) quadrangle boundary data set contains the approximate boundaries of the various 24K USGS quadrangles and the names and indexing codes associated with each 24K quadrangle. </span></p></div></div>
Map Name: SCCAlquistPrioloEQZone
Legend
All Layers and Tables
Dynamic Legend
Dynamic All Layers
Layers:
Description: The Alquist-Priolo Earthquake Fault Zones and fault traces as shown on the Official Alquist-Priolo Earthquake Fault Zones Map of the Santa Clara County (2008). Alquist-Priolo fault zones do not correspond with fault rupture zones. The Alquist-Priolo Earthquake Fault Zoning Act was passed in 1972 to mitigate the hazard of surface faulting to structures for human occupancy. This state law was a direct result of the 1971 San Fernando Earthquake, which was associated with extensive surface fault ruptures that damaged numerous homes, commercial buildings, and other structures. Surface rupture is the most easily avoidable seismic hazard. It directs the State of California Department of Conservation - Geological Survey to compile detailed maps of the surface traces of known active faults. The Alquist-Priolo Earthquake Fault Zoning Act's main purpose is to prevent the construction of buildings used for human occupancy on the surface trace of active faults. Any other information: http://www.quake.ca.gov/gmaps/ap/ap_maps.htm The 1:24,000-scale (24K) U.S. Geological Survey (USGS) quadrangle boundary data set contains the approximate boundaries of the various 24K USGS quadrangles and the names and indexing codes associated with each 24K quadrangle.
Service Item Id: 8567a6d980b54bcfaf3b800f304e0c7f
Copyright Text: © 2010, California Department of Conservation, Division of Mines and Geology (DMG) by mail: P.O. Box 2980 Sacramento, CA 95812-2980 or by phone (916) 445-5716 Web: http://www.quake.ca.gov/gmaps/ap/ap_maps.htm, All rights reserved
Spatial Reference:
102100
(3857)
LatestVCSWkid(0)
Single Fused Map Cache: true
Tile Info:
- Height: 256.0
- Width: 256.0
- DPI: 96.0
-
Levels of Detail: 24
-
Level ID: 1
[ Start Tile, End Tile ]
- Resolution: 78271.5169639999
- Scale: 2.95828763795777E8
-
Level ID: 2
[ Start Tile, End Tile ]
- Resolution: 39135.7584820001
- Scale: 1.47914381897889E8
-
Level ID: 3
[ Start Tile, End Tile ]
- Resolution: 19567.8792409999
- Scale: 7.3957190948944E7
-
Level ID: 4
[ Start Tile, End Tile ]
- Resolution: 9783.93962049996
- Scale: 3.6978595474472E7
-
Level ID: 5
[ Start Tile, End Tile ]
- Resolution: 4891.96981024998
- Scale: 1.8489297737236E7
- Format: PNG
- Compression Quality: 0.0
- Origin: X: -2.0037508342787E7
Y: 2.0037508342787E7
- Spatial Reference: 102100
(3857)
LatestVCSWkid(0)
Storage Info:
- Storage Format: esriMapCacheStorageModeCompactV2
- Packet Size: 128
Initial Extent:
XMin: -1.3605518670427803E7
YMin: 4424206.418799996
XMax: -1.3509422937872197E7
YMax: 4506889.3401999995
Spatial Reference: 102100
(0)
LatestVCSWkid(0)
Full Extent:
XMin: -1.36035384133E7
YMin: 4424206.418799996
XMax: -1.3511403195E7
YMax: 4506889.3401999995
Spatial Reference: 102100
(0)
LatestVCSWkid(0)
Units: esriMeters
Supported Image Format Types: PNG32,PNG24,PNG,JPG,DIB,TIFF,EMF,PS,PDF,GIF,SVG,SVGZ,BMP
Document Info:
Title: SCCAlquistPrioloEQZone
Author:
Comments: The Alquist-Priolo Earthquake Fault Zones and fault traces as shown on the Official Alquist-Priolo Earthquake Fault Zones Map of the Santa Clara County (2008). Alquist-Priolo fault zones do not correspond with fault rupture zones. The Alquist-Priolo Earthquake Fault Zoning Act was passed in 1972 to mitigate the hazard of surface faulting to structures for human occupancy. This state law was a direct result of the 1971 San Fernando Earthquake, which was associated with extensive surface fault ruptures that damaged numerous homes, commercial buildings, and other structures. Surface rupture is the most easily avoidable seismic hazard. It directs the State of California Department of Conservation - Geological Survey to compile detailed maps of the surface traces of known active faults. The Alquist-Priolo Earthquake Fault Zoning Act's main purpose is to prevent the construction of buildings used for human occupancy on the surface trace of active faults. Any other information: http://www.quake.ca.gov/gmaps/ap/ap_maps.htm The 1:24,000-scale (24K) U.S. Geological Survey (USGS) quadrangle boundary data set contains the approximate boundaries of the various 24K USGS quadrangles and the names and indexing codes associated with each 24K quadrangle.
Subject: The Alquist-Priolo Earthquake Fault Zones and fault traces as shown on the Official Alquist-Priolo Earthquake Fault Zones Map of the Santa Clara County (2008).
Category:
Keywords: Santa Clara County,County Of Santa Clara,alquist-priolo earthquake fault zoning map,sccgov
AntialiasingMode: None
TextAntialiasingMode: Force
Supports Dynamic Layers: true
Resampling: false
MaxRecordCount: 2000
MaxSelectionCount: 2000
MaxImageHeight: 4096
MaxImageWidth: 4096
Supported Query Formats: JSON, geoJSON, PBF
Supports Query Data Elements: true
Min Scale: 5.91657527591555E8
Max Scale: 282.124294
Supports Datum Transformation: true
Child Resources:
Info
Dynamic Layer
Supported Operations:
Export Map
Identify
QueryLegends
QueryDomains
Find
Return Updates