View In:
ArcGIS JavaScript
ArcGIS Online Map Viewer
ArcGIS Earth
ArcGIS Pro
Service Description: <div style='text-align:Left;font-size:12pt'><div><div><p><span>A terrain base representation of Santa Clara County. Hillshade layer is derived from 2023 LiDAR data. Landcover layer has been derived from the The National Land Cover Database (NLCD 2021). National Land Cover Database (NLCD 2021) is the most recent national land cover product created by the Multi-Resolution Land Characteristics (MRLC) Consortium. </span></p></div></div></div>
Map Name: SCCTerrain
Legend
All Layers and Tables
Dynamic Legend
Dynamic All Layers
Layers:
Description: A terrain base representation of Santa Clara County. Hillshade layer is derived from 2023 LiDAR data. Landcover layer has been derived from the The National Land Cover Database (NLCD 2021). National Land Cover Database (NLCD 2021) is the most recent national land cover product created by the Multi-Resolution Land Characteristics (MRLC) Consortium.
Service Item Id: c27321cacf854e22914511538d047494
Copyright Text: County of Santa Clara, Sanborn Map Company, Santa Clara Valley Water District, USGS / Multi-Resolution Land Characteristics Consortium (National Land Cover Database), San Francisco Estuary Institute (Bay Area Aquatic Resources Inventory - BAARI).
Spatial Reference:
102100
(3857)
LatestVCSWkid(0)
Single Fused Map Cache: true
Tile Info:
- Height: 256.0
- Width: 256.0
- DPI: 96.0
-
Levels of Detail: 24
-
Level ID: 1
[ Start Tile, End Tile ]
- Resolution: 78271.5169639999
- Scale: 2.95828763795777E8
-
Level ID: 2
[ Start Tile, End Tile ]
- Resolution: 39135.7584820001
- Scale: 1.47914381897889E8
-
Level ID: 3
[ Start Tile, End Tile ]
- Resolution: 19567.8792409999
- Scale: 7.3957190948944E7
-
Level ID: 4
[ Start Tile, End Tile ]
- Resolution: 9783.93962049996
- Scale: 3.6978595474472E7
-
Level ID: 5
[ Start Tile, End Tile ]
- Resolution: 4891.96981024998
- Scale: 1.8489297737236E7
- Format: Mixed
- Compression Quality: 75.0
- Origin: X: -2.0037508342787E7
Y: 2.0037508342787E7
- Spatial Reference: 102100
(3857)
LatestVCSWkid(0)
Storage Info:
- Storage Format: esriMapCacheStorageModeCompactV2
- Packet Size: 128
Initial Extent:
XMin: -1.3609425629766814E7
YMin: 4414160.944197391
XMax: -1.3487336566072643E7
YMax: 4516867.255078803
Spatial Reference: 102100
(0)
LatestVCSWkid(0)
Full Extent:
XMin: -1.3609425629766814E7
YMin: 4417738.124395412
XMax: -1.3487336566072641E7
YMax: 4513290.0748807825
Spatial Reference: 102100
(0)
LatestVCSWkid(0)
Units: esriMeters
Supported Image Format Types: PNG32,PNG24,PNG,JPG,DIB,TIFF,EMF,PS,PDF,GIF,SVG,SVGZ,BMP
Document Info:
Title: SCCTerrain
Author:
Comments: A terrain base representation of Santa Clara County. Hillshade layer is derived from 2023 LiDAR data. Landcover layer has been derived from the The National Land Cover Database (NLCD 2021). National Land Cover Database (NLCD 2021) is the most recent national land cover product created by the Multi-Resolution Land Characteristics (MRLC) Consortium.
Subject: A terrain base representation of Santa Clara County. Hillshade layer is derived from 2023 LiDAR data. Landcover layer has been derived from the The National Land Cover Database (NLCD 2021). National Land Cover Database (NLCD 2021) is the most recent national land cover product created by the Multi-Resolution Land Characteristics (MRLC) Consortium.
Category:
Keywords: County of Santa Clara,Terrain,Basemap,Elevation,Lidar,sccgov
AntialiasingMode: Fast
TextAntialiasingMode: Force
Supports Dynamic Layers: true
MaxRecordCount: 2000
MaxSelectionCount: 2000
MaxImageHeight: 4096
MaxImageWidth: 4096
Supported Query Formats: JSON, geoJSON, PBF
Supports Query Data Elements: true
Min Scale: 5.91657527591555E8
Max Scale: 70.5310735
Supports Datum Transformation: true
Child Resources:
Info
Dynamic Layer
Supported Operations:
Export Map
Identify
QueryLegends
QueryDomains
Find
Return Updates