View In:
ArcGIS JavaScript
ArcGIS Online Map Viewer
ArcGIS Earth
ArcGIS Pro
Service Description: <div style='text-align:Left;font-size:12pt'><div><p><span>A base representation of Santa Clara County. To provide visual representation of Santa Clara County. This data set has been generalized and is based upon historical information. It should not be considered a definitive source of the actual geographic features of Santa Clara County. </span></p></div></div>
Map Name: SCCBasemap
Legend
All Layers and Tables
Dynamic Legend
Dynamic All Layers
Layers:
Description: A base representation of Santa Clara County. To provide visual representation of Santa Clara County. This data set has been generalized and is based upon historical information. It should not be considered a definitive source of the actual geographic features of Santa Clara County.
Service Item Id: ec5accd3ca344880828cc526b6aadf9d
Copyright Text: County of Santa Clara, SCVWD, USGS, SFEI, OSM
Spatial Reference:
102100
(3857)
LatestVCSWkid(0)
Single Fused Map Cache: true
Tile Info:
- Height: 256.0
- Width: 256.0
- DPI: 96.0
-
Levels of Detail: 24
-
Level ID: 1
[ Start Tile, End Tile ]
- Resolution: 78271.5169639999
- Scale: 2.95828763795777E8
-
Level ID: 2
[ Start Tile, End Tile ]
- Resolution: 39135.7584820001
- Scale: 1.47914381897889E8
-
Level ID: 3
[ Start Tile, End Tile ]
- Resolution: 19567.8792409999
- Scale: 7.3957190948944E7
-
Level ID: 4
[ Start Tile, End Tile ]
- Resolution: 9783.93962049996
- Scale: 3.6978595474472E7
-
Level ID: 5
[ Start Tile, End Tile ]
- Resolution: 4891.96981024998
- Scale: 1.8489297737236E7
- Format: Mixed
- Compression Quality: 75.0
- Origin: X: -2.0037508342787E7
Y: 2.0037508342787E7
- Spatial Reference: 102100
(3857)
LatestVCSWkid(0)
Storage Info:
- Storage Format: esriMapCacheStorageModeCompactV2
- Packet Size: 128
Initial Extent:
XMin: -1.3582928757649548E7
YMin: 4408056.436414928
XMax: -1.3513465126850452E7
YMax: 4523039.322585068
Spatial Reference: 102100
(0)
LatestVCSWkid(0)
Full Extent:
XMin: -1.36035384133E7
YMin: 4424206.418799996
XMax: -1.34928554712E7
YMax: 4506889.3401999995
Spatial Reference: 102100
(0)
LatestVCSWkid(0)
Units: esriMeters
Supported Image Format Types: PNG32,PNG24,PNG,JPG,DIB,TIFF,EMF,PS,PDF,GIF,SVG,SVGZ,BMP
Document Info:
Title: SCCBasemap
Author:
Comments: A base representation of Santa Clara County. To provide visual representation of Santa Clara County. This data set has been generalized and is based upon historical information. It should not be considered a definitive source of the actual geographic features of Santa Clara County.
Subject: A base representation of Santa Clara County
Category:
Keywords: County of Santa Clara,Map,Basemap
AntialiasingMode: Fast
TextAntialiasingMode: Force
Supports Dynamic Layers: true
MaxRecordCount: 2000
MaxSelectionCount: 2000
MaxImageHeight: 4096
MaxImageWidth: 4096
Supported Query Formats: JSON, geoJSON, PBF
Supports Query Data Elements: true
Min Scale: 5.91657527591555E8
Max Scale: 70.5310735
Supports Datum Transformation: true
Child Resources:
Info
Dynamic Layer
Supported Operations:
Export Map
Identify
QueryLegends
QueryDomains
Find
Return Updates